BEGIN:VCALENDAR
VERSION:2.0
PRODID:-//Centro Akaal - ECPv6.15.20//NONSGML v1.0//EN
CALSCALE:GREGORIAN
METHOD:PUBLISH
X-WR-CALNAME:Centro Akaal
X-ORIGINAL-URL:https://akaal.cl
X-WR-CALDESC:Eventos para Centro Akaal
REFRESH-INTERVAL;VALUE=DURATION:PT1H
X-Robots-Tag:noindex
X-PUBLISHED-TTL:PT1H
BEGIN:VTIMEZONE
TZID:America/Sao_Paulo
BEGIN:STANDARD
TZOFFSETFROM:-0200
TZOFFSETTO:-0300
TZNAME:-03
DTSTART:20170219T020000
END:STANDARD
BEGIN:DAYLIGHT
TZOFFSETFROM:-0300
TZOFFSETTO:-0200
TZNAME:-02
DTSTART:20171015T030000
END:DAYLIGHT
BEGIN:STANDARD
TZOFFSETFROM:-0200
TZOFFSETTO:-0300
TZNAME:-03
DTSTART:20180218T020000
END:STANDARD
BEGIN:DAYLIGHT
TZOFFSETFROM:-0300
TZOFFSETTO:-0200
TZNAME:-02
DTSTART:20181104T030000
END:DAYLIGHT
BEGIN:STANDARD
TZOFFSETFROM:-0200
TZOFFSETTO:-0300
TZNAME:-03
DTSTART:20190217T020000
END:STANDARD
END:VTIMEZONE
BEGIN:VEVENT
DTSTART;TZID=America/Sao_Paulo:20180728T113000
DTEND;TZID=America/Sao_Paulo:20180729T190000
DTSTAMP:20260421T084648
CREATED:20180701T021705Z
LAST-MODIFIED:20180701T021705Z
UID:3268-1532777400-1532890800@akaal.cl
SUMMARY:CONSTELACIONES MULTISISTÉMICAS
DESCRIPTION:
URL:https://akaal.cl/actividades/constelaciones-multisistemicas/
LOCATION:Centro Akaal\, José Miguel Carrera 720\, Santiago\, La Florida\, Chile
ATTACH;FMTTYPE=image/jpeg:https://akaal.cl/wp-content/uploads/2015/05/Pseo-Centro-Akaal.jpg
ORGANIZER;CN="Viviana Olmedo Vald%C3%A9s":MAILTO:centro@akaal.cl
END:VEVENT
BEGIN:VEVENT
DTSTART;TZID=America/Sao_Paulo:20180721T120000
DTEND;TZID=America/Sao_Paulo:20180722T160000
DTSTAMP:20260421T084648
CREATED:20180609T022422Z
LAST-MODIFIED:20180609T022422Z
UID:3226-1532174400-1532275200@akaal.cl
SUMMARY:REGISTROS AKÁSHICOS Y YO.
DESCRIPTION:
URL:https://akaal.cl/actividades/registros-akashicos-y-yo/
ATTACH;FMTTYPE=image/jpeg:https://akaal.cl/wp-content/uploads/2018/06/WhatsApp-Image-2018-06-08-at-18.42.47.jpeg
ORGANIZER;CN="Viviana Olmedo Vald%C3%A9s":MAILTO:centro@akaal.cl
END:VEVENT
BEGIN:VEVENT
DTSTART;TZID=America/Sao_Paulo:20180715T100000
DTEND;TZID=America/Sao_Paulo:20180715T180000
DTSTAMP:20260421T084648
CREATED:20180630T203512Z
LAST-MODIFIED:20180630T205245Z
UID:3252-1531648800-1531677600@akaal.cl
SUMMARY:MÓDULO DE APERTURA REGISTROS AKÁSHICOS (primer nivel)
DESCRIPTION:
URL:https://akaal.cl/actividades/modulo-de-apertura-registros-akashicos-primer-nivel/
LOCATION:Centro Akaal\, José Miguel Carrera 720\, Santiago\, La Florida\, Chile
ATTACH;FMTTYPE=image/jpeg:https://akaal.cl/wp-content/uploads/2018/03/12039557_1050629358281154_7690964235482449635_n.jpg
ORGANIZER;CN="Viviana Olmedo Vald%C3%A9s":MAILTO:centro@akaal.cl
END:VEVENT
BEGIN:VEVENT
DTSTART;TZID=America/Sao_Paulo:20180714T150000
DTEND;TZID=America/Sao_Paulo:20180714T180000
DTSTAMP:20260421T084648
CREATED:20180630T232719Z
LAST-MODIFIED:20180630T232719Z
UID:3264-1531580400-1531591200@akaal.cl
SUMMARY:Taller:"Integra y equilibra los 4 elementos en tu SER"
DESCRIPTION:
URL:https://akaal.cl/actividades/tallerintegra-y-equilibra-los-4-elementos-en-tu-ser/
LOCATION:Centro Akaal\, José Miguel Carrera 720\, Santiago\, La Florida\, Chile
ATTACH;FMTTYPE=image/png:https://akaal.cl/wp-content/uploads/2018/06/Integra-y-equilibra-los-4-elementos-en-tu-SER_.png
ORGANIZER;CN="Viviana Olmedo Vald%C3%A9s":MAILTO:centro@akaal.cl
END:VEVENT
BEGIN:VEVENT
DTSTART;TZID=America/Sao_Paulo:20180712T080000
DTEND;TZID=America/Sao_Paulo:20180712T170000
DTSTAMP:20260421T084648
CREATED:20180713T021022Z
LAST-MODIFIED:20180713T021022Z
UID:3292-1531382400-1531414800@akaal.cl
SUMMARY:REGISTROS AKÁSHICOS Y YO\, 21 Y 22 de julio\, Santiago\, Centro Akaal.
DESCRIPTION:Información whatsapp +56 9 6726 3440 \nContenidos: \nVidas multidimensionales \nPasado\, presente\, futuro \nGenograma de mi experiencia humana \nGenograma akáshico \nMi ser creativo \nCo-Creación \nIdentidad \nNeutralidad \nCreencias y Patrones \nConsciencia\, subconsciencia e Inconciencia \nLucha interior y Resistencia \nÉtica \nMaestría Akáshica \nConsignas \nPEM \n___________________________________________________ \nPRECIO \n\n$100.000 .-\n\nINCLUYE \n\nManual\nCertificado de acreditación de la Escuela RAM\nCoffee break
URL:https://akaal.cl/actividades/registros-akashicos-y-yo-21-y-22-de-julio-santiago-centro-akaal/
ATTACH;FMTTYPE=image/jpeg:https://akaal.cl/wp-content/uploads/2018/07/WhatsApp-Image-2018-07-04-at-15.40.17.jpeg
END:VEVENT
BEGIN:VEVENT
DTSTART;TZID=America/Sao_Paulo:20180703T190000
DTEND;TZID=America/Sao_Paulo:20180703T210000
DTSTAMP:20260421T084648
CREATED:20180630T203048Z
LAST-MODIFIED:20180630T203048Z
UID:3249-1530644400-1530651600@akaal.cl
SUMMARY:PRÁCTICA DE REGISTROS AKÁSHICOS
DESCRIPTION:
URL:https://akaal.cl/actividades/practica-de-registros-akashicos-2/
ATTACH;FMTTYPE=image/jpeg:https://akaal.cl/wp-content/uploads/2018/06/20180525_153309-scaled.jpg
ORGANIZER;CN="Viviana Olmedo Vald%C3%A9s":MAILTO:centro@akaal.cl
END:VEVENT
BEGIN:VEVENT
DTSTART;TZID=America/Sao_Paulo:20180623T100000
DTEND;TZID=America/Sao_Paulo:20180623T190000
DTSTAMP:20260421T084648
CREATED:20180610T031457Z
LAST-MODIFIED:20180610T031457Z
UID:3232-1529748000-1529780400@akaal.cl
SUMMARY:REGISTROS AKÁSHICOS\, MÓDULO DE APERTURA\, ANTOFAGASTA\, 23 de junio.
DESCRIPTION:
URL:https://akaal.cl/actividades/registros-akashicos-modulo-de-apertura-antofagasta-23-de-junio/
LOCATION:Centro Akaal\, José Miguel Carrera 720\, Santiago\, La Florida\, Chile
ATTACH;FMTTYPE=image/jpeg:https://akaal.cl/wp-content/uploads/2018/06/WhatsApp-Image-2018-06-09-at-00.52.22.jpeg
ORGANIZER;CN="Viviana Olmedo Vald%C3%A9s":MAILTO:centro@akaal.cl
END:VEVENT
BEGIN:VEVENT
DTSTART;TZID=America/Sao_Paulo:20180621T180000
DTEND;TZID=America/Sao_Paulo:20180626T180000
DTSTAMP:20260421T084648
CREATED:20180609T014912Z
LAST-MODIFIED:20180609T014912Z
UID:3219-1529604000-1530036000@akaal.cl
SUMMARY:Antofagasta!!! 6° Gira "Expande tu consciencia"
DESCRIPTION:
URL:https://akaal.cl/actividades/antofagasta-6-gira-expande-tu-consciencia/
LOCATION:Centro Akaal\, José Miguel Carrera 720\, Santiago\, La Florida\, Chile
ATTACH;FMTTYPE=image/jpeg:https://akaal.cl/wp-content/uploads/2018/06/WhatsApp-Image-2018-06-08-at-00.56.46.jpeg
ORGANIZER;CN="Viviana Olmedo Vald%C3%A9s":MAILTO:centro@akaal.cl
END:VEVENT
BEGIN:VEVENT
DTSTART;TZID=America/Sao_Paulo:20180617T100000
DTEND;TZID=America/Sao_Paulo:20180617T180000
DTSTAMP:20260421T084648
CREATED:20180609T013451Z
LAST-MODIFIED:20180609T013451Z
UID:3213-1529229600-1529258400@akaal.cl
SUMMARY:REGISTROS AKÁSHICOS\, MÓDULO LECTOR.
DESCRIPTION:
URL:https://akaal.cl/actividades/registros-akashicos-modulo-lector/
LOCATION:Centro Akaal\, José Miguel Carrera 720\, Santiago\, La Florida\, Chile
ATTACH;FMTTYPE=image/png:https://akaal.cl/wp-content/uploads/2017/12/2-ERAM-para-fondo-blanco.png
ORGANIZER;CN="Viviana Olmedo Vald%C3%A9s":MAILTO:centro@akaal.cl
END:VEVENT
BEGIN:VEVENT
DTSTART;TZID=America/Sao_Paulo:20180616T113000
DTEND;TZID=America/Sao_Paulo:20180616T200000
DTSTAMP:20260421T084648
CREATED:20180609T013041Z
LAST-MODIFIED:20180609T013041Z
UID:3211-1529148600-1529179200@akaal.cl
SUMMARY:REGISTROS AKÁSHICOS\, MÓDULO DE APERTURA.
DESCRIPTION:
URL:https://akaal.cl/actividades/registros-akashicos-modulo-de-apertura/
LOCATION:Centro Akaal\, José Miguel Carrera 720\, Santiago\, La Florida\, Chile
ATTACH;FMTTYPE=image/png:https://akaal.cl/wp-content/uploads/2017/12/2-ERAM-para-fondo-blanco.png
ORGANIZER;CN="Viviana Olmedo Vald%C3%A9s":MAILTO:centro@akaal.cl
END:VEVENT
BEGIN:VEVENT
DTSTART;TZID=America/Sao_Paulo:20180612T190000
DTEND;TZID=America/Sao_Paulo:20180612T210000
DTSTAMP:20260421T084648
CREATED:20180609T010949Z
LAST-MODIFIED:20180609T010949Z
UID:3202-1528830000-1528837200@akaal.cl
SUMMARY:PRÁCTICA DE REGISTROS AKÁSHICOS
DESCRIPTION:
URL:https://akaal.cl/actividades/practica-de-registros-akashicos/
LOCATION:Centro Akaal\, José Miguel Carrera 720\, Santiago\, La Florida\, Chile
ATTACH;FMTTYPE=image/jpeg:https://akaal.cl/wp-content/uploads/2018/03/12039557_1050629358281154_7690964235482449635_n.jpg
ORGANIZER;CN="Viviana Olmedo Vald%C3%A9s":MAILTO:centro@akaal.cl
END:VEVENT
BEGIN:VEVENT
DTSTART;TZID=America/Sao_Paulo:20180505T090000
DTEND;TZID=America/Sao_Paulo:20180509T190000
DTSTAMP:20260421T084648
CREATED:20180421T211419Z
LAST-MODIFIED:20180421T211419Z
UID:3195-1525510800-1525892400@akaal.cl
SUMMARY:Registros akáshicos\, Numerología universal\, talleres y consultas personales\, Tehuacán\, México.
DESCRIPTION:
URL:https://akaal.cl/actividades/registros-akashicos-numerologia-universal-talleres-y-consultas-personales-tehuacan-mexico/
LOCATION:Centro Akaal\, José Miguel Carrera 720\, Santiago\, La Florida\, Chile
ATTACH;FMTTYPE=image/png:https://akaal.cl/wp-content/uploads/2018/04/Tehuacán.png
END:VEVENT
BEGIN:VEVENT
DTSTART;TZID=America/Sao_Paulo:20180424T190000
DTEND;TZID=America/Sao_Paulo:20180424T210000
DTSTAMP:20260421T084648
CREATED:20180421T205023Z
LAST-MODIFIED:20180421T205023Z
UID:3190-1524596400-1524603600@akaal.cl
SUMMARY:PRÁCTICA DE REGISTROS AKÁSHICOS RAM
DESCRIPTION:
URL:https://akaal.cl/actividades/practica-de-registros-akashicos-ram/
LOCATION:Centro Akaal\, José Miguel Carrera 720\, Santiago\, La Florida\, Chile
ATTACH;FMTTYPE=image/jpeg:https://akaal.cl/wp-content/uploads/2018/04/98396b15-9725-4e51-b05a-f4c571f26c0b-1.jpg
ORGANIZER;CN="Viviana Olmedo Vald%C3%A9s":MAILTO:centro@akaal.cl
END:VEVENT
BEGIN:VEVENT
DTSTART;TZID=America/Sao_Paulo:20180418T080000
DTEND;TZID=America/Sao_Paulo:20180418T170000
DTSTAMP:20260421T084648
CREATED:20180419T025440Z
LAST-MODIFIED:20180419T025440Z
UID:3181-1524038400-1524070800@akaal.cl
SUMMARY:CIUDAD DE MÉXICO!!! REGISTROS AKÁSHICOS Y NUMEROLOGÍA UNIVERSAL
DESCRIPTION:DEL 18 AL 22 DE MAYO. \nConsultas personales y talleres de formación en Registros Akáshicos  y Numerología Universal.
URL:https://akaal.cl/actividades/ciudad-de-mexico-registros-akashicos-y-numerologia-universal/
ATTACH;FMTTYPE=image/png:https://akaal.cl/wp-content/uploads/2018/04/Ciudad-de-México.png
END:VEVENT
BEGIN:VEVENT
DTSTART;TZID=America/Sao_Paulo:20180415T100000
DTEND;TZID=America/Sao_Paulo:20180415T200000
DTSTAMP:20260421T084648
CREATED:20180329T041243Z
LAST-MODIFIED:20180329T043214Z
UID:3169-1523786400-1523822400@akaal.cl
SUMMARY:Registros Akáshicos\, Módulo Lector. Centro Akaal\, Santiago.
DESCRIPTION:
URL:https://akaal.cl/actividades/registros-akashicos-modulo-lector-centro-akaal-santiago-2/
LOCATION:Centro Akaal\, José Miguel Carrera 720\, Santiago\, La Florida\, Chile
ATTACH;FMTTYPE=image/jpeg:https://akaal.cl/wp-content/uploads/2018/03/WhatsApp-Image-2018-03-29-at-01.19.57-1.jpeg
ORGANIZER;CN="Viviana Olmedo Vald%C3%A9s":MAILTO:centro@akaal.cl
END:VEVENT
BEGIN:VEVENT
DTSTART;TZID=America/Sao_Paulo:20180414T113000
DTEND;TZID=America/Sao_Paulo:20180414T200000
DTSTAMP:20260421T084648
CREATED:20180329T040655Z
LAST-MODIFIED:20180329T042302Z
UID:3167-1523705400-1523736000@akaal.cl
SUMMARY:Registros Akáshicos\, Módulo Apertura de 11.30 a 20.00 hrs. Centro Akaal. Santiago.
DESCRIPTION:
URL:https://akaal.cl/actividades/registros-akashicos-modulo-apertura-de-11-30-a-20-00-hrs-centro-akaal-santiago/
LOCATION:Centro Akaal\, José Miguel Carrera 720\, Santiago\, La Florida\, Chile
ATTACH;FMTTYPE=image/jpeg:https://akaal.cl/wp-content/uploads/2018/03/WhatsApp-Image-2018-03-29-at-01.19.54.jpeg
ORGANIZER;CN="Viviana Olmedo Vald%C3%A9s":MAILTO:centro@akaal.cl
END:VEVENT
BEGIN:VEVENT
DTSTART;TZID=America/Sao_Paulo:20180403T190000
DTEND;TZID=America/Sao_Paulo:20180403T210000
DTSTAMP:20260421T084648
CREATED:20180329T035529Z
LAST-MODIFIED:20180329T043457Z
UID:3161-1522782000-1522789200@akaal.cl
SUMMARY:Práctica de Registros Akáshicos 19.00 hrs. Centro Akaal\, Santiago.
DESCRIPTION:
URL:https://akaal.cl/actividades/practica-de-registros-akashicos-19-00-hrs-centro-akaal-santiago/
LOCATION:Centro Akaal\, José Miguel Carrera 720\, Santiago\, La Florida\, Chile
ATTACH;FMTTYPE=image/jpeg:https://akaal.cl/wp-content/uploads/2018/03/WhatsApp-Image-2018-03-29-at-01.26.40.jpeg
ORGANIZER;CN="Viviana Olmedo Vald%C3%A9s":MAILTO:centro@akaal.cl
END:VEVENT
BEGIN:VEVENT
DTSTART;TZID=America/Sao_Paulo:20180330T100000
DTEND;TZID=America/Sao_Paulo:20180331T130000
DTSTAMP:20260421T084648
CREATED:20180327T023847Z
LAST-MODIFIED:20180327T023847Z
UID:3142-1522404000-1522501200@akaal.cl
SUMMARY:Registros akáshicos y yo\, Centro Akaal\, Santiago
DESCRIPTION:
URL:https://akaal.cl/actividades/registros-akashicos-y-yo-centro-akaal-santiago/
LOCATION:Centro Akaal\, José Miguel Carrera 720\, Santiago\, La Florida\, Chile
ATTACH;FMTTYPE=image/jpeg:https://akaal.cl/wp-content/uploads/2018/03/WhatsApp-Image-2018-03-26-at-20.09.36.jpeg
ORGANIZER;CN="Viviana Olmedo Vald%C3%A9s":MAILTO:centro@akaal.cl
END:VEVENT
BEGIN:VEVENT
DTSTART;TZID=America/Sao_Paulo:20180330T100000
DTEND;TZID=America/Sao_Paulo:20180330T190000
DTSTAMP:20260421T084648
CREATED:20180327T154325Z
LAST-MODIFIED:20180327T154325Z
UID:3156-1522404000-1522436400@akaal.cl
SUMMARY:Registros Akáshicos. Módulo de Apertura. Centro Akaal. Santiago.
DESCRIPTION:
URL:https://akaal.cl/actividades/registros-akashicos-modulo-de-apertura-centro-akaal-santiago-2/
LOCATION:Centro Akaal\, José Miguel Carrera 720\, Santiago\, La Florida\, Chile
ATTACH;FMTTYPE=image/jpeg:https://akaal.cl/wp-content/uploads/2018/03/WhatsApp-Image-2018-03-27-at-12.11.30.jpeg
END:VEVENT
BEGIN:VEVENT
DTSTART;TZID=America/Sao_Paulo:20180325T100000
DTEND;TZID=America/Sao_Paulo:20180325T190000
DTSTAMP:20260421T084648
CREATED:20180327T024610Z
LAST-MODIFIED:20180327T024610Z
UID:3147-1521972000-1522004400@akaal.cl
SUMMARY:Registros Akáshicos\, Módulo Lector. Centro Akaal\, Santiago.
DESCRIPTION:
URL:https://akaal.cl/actividades/registros-akashicos-modulo-lector-centro-akaal-santiago/
LOCATION:Centro Akaal\, José Miguel Carrera 720\, Santiago\, La Florida\, Chile
ATTACH;FMTTYPE=image/png:https://akaal.cl/wp-content/uploads/2018/03/dont-be-afraid-to-fall...-for-this-seasons-collection-available-in-all-sizes-2.png
ORGANIZER;CN="Viviana Olmedo Vald%C3%A9s":MAILTO:centro@akaal.cl
END:VEVENT
BEGIN:VEVENT
DTSTART;TZID=America/Sao_Paulo:20180324T113000
DTEND;TZID=America/Sao_Paulo:20180324T200000
DTSTAMP:20260421T084648
CREATED:20180327T024347Z
LAST-MODIFIED:20180327T024347Z
UID:3145-1521891000-1521921600@akaal.cl
SUMMARY:Registros Akáshicos\, Módulo de Apertura\, Centro Akaal\, Santiago.
DESCRIPTION:
URL:https://akaal.cl/actividades/registros-akashicos-modulo-de-apertura-centro-akaal-santiago/
LOCATION:Centro Akaal\, José Miguel Carrera 720\, Santiago\, La Florida\, Chile
ATTACH;FMTTYPE=image/png:https://akaal.cl/wp-content/uploads/2018/03/dont-be-afraid-to-fall...-for-this-seasons-collection-available-in-all-sizes-1.png
ORGANIZER;CN="Viviana Olmedo Vald%C3%A9s":MAILTO:centro@akaal.cl
END:VEVENT
BEGIN:VEVENT
DTSTART;TZID=America/Sao_Paulo:20180306T190000
DTEND;TZID=America/Sao_Paulo:20180306T210000
DTSTAMP:20260421T084648
CREATED:20180327T025158Z
LAST-MODIFIED:20180327T025158Z
UID:3149-1520362800-1520370000@akaal.cl
SUMMARY:Práctica de Registros Akáshicos. Centro Akaal\, Santiago.
DESCRIPTION:
URL:https://akaal.cl/actividades/practica-de-registros-akashicos-centro-akaal-santiago/
LOCATION:Centro Akaal\, José Miguel Carrera 720\, Santiago\, La Florida\, Chile
ATTACH;FMTTYPE=image/jpeg:https://akaal.cl/wp-content/uploads/2018/03/12039557_1050629358281154_7690964235482449635_n.jpg
ORGANIZER;CN="Viviana Olmedo Vald%C3%A9s":MAILTO:centro@akaal.cl
END:VEVENT
BEGIN:VEVENT
DTSTART;TZID=America/Sao_Paulo:20180128T100000
DTEND;TZID=America/Sao_Paulo:20180128T190000
DTSTAMP:20260421T084648
CREATED:20171224T152750Z
LAST-MODIFIED:20171229T003329Z
UID:3030-1517133600-1517166000@akaal.cl
SUMMARY:Registros Akáshicos: Módulo Lector\, Domingo 28 de Enero de 10:00 a 19:00 hrs\, Centro Akaal.
DESCRIPTION:CONTENIDOS MÓDULO LECTOR \n\nEste curso tiene una duración de 10 horas. \nRequisitos: Haber cursado el Módulo de Apertura \n\nContenidos: \n\nLectura de Registros Akáshicos\n¿Qué es ser lector de Registros Akáshicos?\nRespiración consciente\nNuevos mudras\nLa Lectura\nEstructura y formato\nValidación\nPreguntas (hasta diez preguntas)\nMétodo Apertura y Cierre\nConsignas\nJuicios \, formas de separación\, Insight. Profundización.\nMerecimiento/ aceptación / prosperidad / apego / desapego / etc.\nCambios concretos y libre albedrío\nÉtica\nRelación con PEL (continuación)\nCertificado y Manual\n\n\nPRECIO $100.000 .- \n\nINCLUYE: \n\nManual\nCertificado de acreditación de la Escuela RAM\nCoffee break\n\n\nReservas: +56956395431  +56967263440
URL:https://akaal.cl/actividades/registros-akashicos-modulo-lector-domingo-28-enero-1000-1900-hrs-centro-akaal/
LOCATION:Centro Akaal\, José Miguel Carrera 720\, Santiago\, La Florida\, Chile
CATEGORIES:registros akashicos
ATTACH;FMTTYPE=image/jpeg:https://akaal.cl/wp-content/uploads/2017/12/WhatsApp-Image-2017-12-28-at-18.00.44.jpeg
END:VEVENT
BEGIN:VEVENT
DTSTART;TZID=America/Sao_Paulo:20180127T113000
DTEND;TZID=America/Sao_Paulo:20180127T193000
DTSTAMP:20260421T084648
CREATED:20171224T151715Z
LAST-MODIFIED:20171229T003315Z
UID:3026-1517052600-1517081400@akaal.cl
SUMMARY:Módulo Apertura Registros Akáshicos\, Sábado 27 de Enero de 11:30 a 19:00 hrs\, Centro Akaal
DESCRIPTION:CONTENIDOS MÓDULO DE APERTURA \n\nEste curso tiene una duración de 10 horas. \nRequisitos: \n\nSer mayor de 18 años.\nSer aprobado desde el Registro Akáshico para participar en el Módulo.\nNo se necesita experiencia previa.\n\n\nContenidos: \n\nOrigen y Linaje\nConociendo al EGO: trampas del EGO\, miedo y merecimiento.\nTriadas AKÁSHICAS\n*Víctima -Víctimario -Salvador\n*Pecado -Culpa-Castigo\n*Activo – Pasivo -Testigo\n*Consciente-subconsciente-inconsciente\n*Neutralidad – juicios – formas de separación\nPedido Expreso\nRespiración consciente\nApertura espontánea\nApertura Consciente y Elegida\nMétodo Apertura y Cierre\nMudras\nRelación con el Registro Akáshico (Hacer preguntas)\nHonestidad e Integridad\nCreencias y Patrones\nConsignas\n\n\nPRECIO $100.000 . \n\nINCLUYE: \n\nManual\nCertificado de acreditación de la Escuela RAM\nCoffee break\n\n\nReservas: +56956395431  +56967263440
URL:https://akaal.cl/actividades/modulo-apertura-registros-akashicos-sabado-27-enero-1130-1900-hrs-centro-akaal/
LOCATION:Centro Akaal\, José Miguel Carrera 720\, Santiago\, La Florida\, Chile
CATEGORIES:registros akashicos
ATTACH;FMTTYPE=image/jpeg:https://akaal.cl/wp-content/uploads/2017/12/WhatsApp-Image-2017-12-28-at-18.00.31.jpeg
END:VEVENT
BEGIN:VEVENT
DTSTART;VALUE=DATE:20180120
DTEND;VALUE=DATE:20180122
DTSTAMP:20260421T084648
CREATED:20171224T043232Z
LAST-MODIFIED:20171224T150907Z
UID:3021-1516406400-1516579199@akaal.cl
SUMMARY:Taller PEL para lectores en entrenamiento\, Sábado 20 de 10:00 a 19:00 hrs y Domingo 21 de10:00 a 17:00 hrs\, Centro Reantu
DESCRIPTION:PROGRAMA DE ENTRENAMIENTO LECTOR CERTIFICADO / PEL \n\nRequisitos para ingresar al programa: \n\nHaber cursado Módulo Apertura y Módulo Lector.\nSer aceptado por el Consejo de Maestros de la Escuela RAM.\n\n\nPrograma: \n\nDuración 3 a 6 meses.\nElegir un Mentor\, un Maestro de la Escuela.\nTrabajo Individual.\nTrabajo con el Mentor.\n33 lecturas con pedido expreso o consentimiento.\n3 lecturas a Maestros de la Escuela RAM.\nLiderar 3 Jornadas de prácticas.\nOrganizar 1 jornadas gratuita en lugares como hospitales\, cárcel\, asilos\, hogares\, gobierno\, etc.\n5 recursaciones de Módulo de Apertura.\n5 recursaciones de Módulo Lector.\nParticipación al menos en 1 Encuentro Akáshico Internacional.\nCursar Módulo Registros Akáshicos y YO. ($100.000)\nCursar el Taller PEL. ($100.000)\n\n\nPRECIO Honorarios a acordar con Mentor. \nINCLUYE Certificado de acreditación de la Escuela RAM \n\n Reservas: +56956395431  +56967263440    
URL:https://akaal.cl/actividades/taller-pel-lectores-entrenamiento-sabado-20-1000-1900-hrs-domingo-21-de1000-1700-hrs-centro-reantu/
CATEGORIES:registros akashicos
ATTACH;FMTTYPE=image/jpeg:https://akaal.cl/wp-content/uploads/2017/12/WhatsApp-Image-2017-12-23-at-10.32.30.jpeg
END:VEVENT
BEGIN:VEVENT
DTSTART;TZID=America/Sao_Paulo:20180117T190000
DTEND;TZID=America/Sao_Paulo:20180117T210000
DTSTAMP:20260421T084648
CREATED:20171226T005816Z
LAST-MODIFIED:20171229T002827Z
UID:3039-1516215600-1516222800@akaal.cl
SUMMARY:Práctica de Registros Akáshicos\, gratuito\, Miércoles 17 de Enero de 19:00 a 21:00 hrs Providencia.
DESCRIPTION:Todos los estudiantes akáshicos invitados a practicar desde Módulo de Apertura en adelante\, en el centro de Providencia y dirigido por la maestra Pamela Ortiz. La practica es de carácter gratuita\, sólo se pide traer algo para compartir. Nos vemos a las 19.00 hrs. Un Abrazo !!
URL:https://akaal.cl/actividades/practica-registros-akashicos-gratuito-miercoles-17-enero-1900-2100-hrs-providencia/
CATEGORIES:registros akashicos
ATTACH;FMTTYPE=image/jpeg:https://akaal.cl/wp-content/uploads/2017/12/WhatsApp-Image-2017-12-28-at-16.01.16.jpeg
END:VEVENT
BEGIN:VEVENT
DTSTART;TZID=America/Sao_Paulo:20180116T100000
DTEND;TZID=America/Sao_Paulo:20180116T180000
DTSTAMP:20260421T084648
CREATED:20171231T040202Z
LAST-MODIFIED:20171231T040452Z
UID:3049-1516096800-1516125600@akaal.cl
SUMMARY:Taller Reiki Gendai Ho\, 16 de Enero de 10:00 a 18:00 hrs\, Centro Akaal
DESCRIPTION:Taller Nivel 1 de Reiki Gendai Ho Dirigido por la Maestra Jenny Espinoza supervisado por la mestra Shihan Pamela Ortiz Nuñez. \nCon taller nivel 1 accederás a la auto sanación en técnica de Gendai Reiki Ho \nSe realizará en Centro Akaal\, ubicado en Jose Miguel Carrera 720\, Comuna de La Florida \nValor $ 35.000\, con entrega de certificado\, inscripción con abono al fono +56 9 84285057 \n\nPROGRAMA NIVEL 1 \n  \n\n INTRODUCCION REIKI HO:\n\n¿Qué es Reiki ho? – Fundamentos de Reiki ho. – ¿Qué es la sanación? – Propósito de la sanación. – Estructura del Reiki ho. – Síntesis de Gendai Reiki ho. – Linaje – Política de seminarios y seguimientos. – Sintonizaciones o iniciaciones. \n  \n\n HISTORIA DE REIKI HO\n\nMikao Usui. – Historia de la Usui Reiki Ryoho Gakkai. – Transmisión de Reiki en Japón y fuera de Japón. – Evolución del Reiki occidental. \nSistemas Reiki creados en occidente. \n  \n\n FUNDAMENTOS DE LA SANACION REIKI\n\nFundamentos básicos. – Cómo utilizar las manos. – Posiciones fijas del Reiki occidental y posiciones del Reiki tradicional japonés. – \nAutotratamiento. – Tratamiento a los demás. – Limpieza de aura. \n  \n\n TECNICAS DE REIKI TRADICIONAL\n\nShudan Reiki Ho – Renzoku Reiki Ho (parrilla y maratón de Reiki). – Reiki Mawashi (círculo de Reiki). – Nentatsu ho (técnica para tratar hábitos). – Byosen (técnica de escaneo). – Reiji ho (técnica intuitiva). \n  \n\n TECNICAS PARA PURIFICAR Y VERTER REIKI\n\nJakikiri Joka ho (técnica para cortar la energía negativa). – Técnica para purificar ambientes. – Canalizar Reiki a cristales y objetos. \nPurificación de alimentos y bebidas. \n  \n\n SANACION A ANIMALES Y PLANTAS\n\nSanación a los animales. – Sanación a las plantas. – Otros usos. – Cómo preparar agua con la energía Reiki. \n  \n\n TECNICAS DE AUTOPURIFICACION Y AUTOCRECIMIENTO\n\nKenyoku ho (autolimpieza energética). – Hikari No Kokyu ho (respiración luminosa). – Respiración Gassho. – Ducha Reiki. – Chakra Kassei Giho.
URL:https://akaal.cl/actividades/taller-reiki-gendai-ho-16-de-enero-de-1000-a-1800-hrs-centro-akaal/
LOCATION:Centro Akaal\, José Miguel Carrera 720\, Santiago\, La Florida\, Chile
CATEGORIES:reiki
ATTACH;FMTTYPE=image/jpeg:https://akaal.cl/wp-content/uploads/2017/12/afiche.jpg
END:VEVENT
BEGIN:VEVENT
DTSTART;TZID=America/Sao_Paulo:20180113T113000
DTEND;TZID=America/Sao_Paulo:20180114T170000
DTSTAMP:20260421T084648
CREATED:20171224T041059Z
LAST-MODIFIED:20171224T041059Z
UID:3016-1515843000-1515949200@akaal.cl
SUMMARY:Registros Akáshicos  y Yo\, Sábado 13 de Enero de 11:30 a 10:00 hrs y Domingo 14 de 10:00 a 17:00 hrs. Centro Akaal
DESCRIPTION:MÓDULO REGISTROS AKÁSHICOS Y YO \n\nEste curso tiene una duración de 16 horas. \nRequisitos: Estar mínimo cursando el Programa PEL \n\nContenidos: \n\nVidas multidimensionales\nPasado\, presente\, futuro\nGenograma de mi experiencia humana\nGenograma akáshico\nMi ser creativo\nCo-Creación\nIdentidad\nNeutralidad\nCreencias y Patrones\nConsciencia\, subconsciencia e Inconciencia\nLucha interior y Resistencia\nÉtica\nMaestría Akáshica\nConsignas\nPEM\n\n\nPRECIO $100.000 .- \n\nINCLUYE: \n\nManual\nCertificado de acreditación de la Escuela RAM\nCoffee break\n\n\nReservas: +56956395431  +56967263440    
URL:https://akaal.cl/actividades/registros-akashicos-sabado-13-enero-1130-1000-hrs-domingo-14-1000-1700-hrs-centro-akaal/
LOCATION:Centro Akaal\, José Miguel Carrera 720\, Santiago\, La Florida\, Chile
CATEGORIES:registros akashicos
ATTACH;FMTTYPE=image/jpeg:https://akaal.cl/wp-content/uploads/2017/12/dont-be-afraid-to-fall...-for-this-seasons-collection-available-in-all-sizes-29.jpg
END:VEVENT
BEGIN:VEVENT
DTSTART;TZID=America/Sao_Paulo:20180109T190000
DTEND;TZID=America/Sao_Paulo:20180109T210000
DTSTAMP:20260421T084648
CREATED:20171226T005013Z
LAST-MODIFIED:20171229T002639Z
UID:3035-1515524400-1515531600@akaal.cl
SUMMARY:Práctica de Registros Akáshicos gratuita\, Martes 9 de Enero de 19:00 a 21:00 hrs. Centro Akaal
DESCRIPTION:Todos los estudiantes akáshicos invitados a practicar desde Módulo de Apertura en adelante\, es gratuito\, sólo se pide traer algo para compartir. Nos vemos a las 19.00 hrs. Un Abrazo !!
URL:https://akaal.cl/actividades/practica-registros-akashicos-gratuita-martes-9-enero-1900-2100-hrs-centro-akaal/
LOCATION:Centro Akaal\, José Miguel Carrera 720\, Santiago\, La Florida\, Chile
CATEGORIES:registros akashicos
ATTACH;FMTTYPE=image/jpeg:https://akaal.cl/wp-content/uploads/2017/12/WhatsApp-Image-2017-12-28-at-16.01.08.jpeg
END:VEVENT
BEGIN:VEVENT
DTSTART;TZID=America/Sao_Paulo:20180107T100000
DTEND;TZID=America/Sao_Paulo:20180107T200000
DTSTAMP:20260421T084648
CREATED:20171212T225010Z
LAST-MODIFIED:20171212T225010Z
UID:2970-1515319200-1515355200@akaal.cl
SUMMARY:Registros Akáshicos: Módulo Lector. Domingo 7 de Enero\, Centro Akaal
DESCRIPTION:CONTENIDOS MÓDULO LECTOR: \n\n\n Este curso tiene una duración de 10 horas.\nRequisitos: Haber cursado el Módulo de Apertura\n\n\nContenidos: \n\nLectura de Registros Akáshicos\n¿Qué es ser lector de Registros Akáshicos?\nRespiración consciente\nNuevos mudras\nLa Lectura Estructura y formato\nValidación\nPreguntas (hasta diez preguntas)\nMétodo Apertura y Cierre\nConsignas\nJuicios \, formas de separación\, Insight. Profundización.\nMerecimiento/ aceptación / prosperidad / apego / desapego / etc.\nCambios concretos y libre albedrío\nÉtica\nRelación con PEL (continuación)\nCertificado y Manual\n\n\nPRECIO $100.000 .- \n\nINCLUYE: \n\nManual\nCertificado de acreditación de la Escuela RAM\nCoffee break
URL:https://akaal.cl/actividades/registros-akashicos-modulo-lector-domingo-7-enero-centro-akaal/
LOCATION:Centro Akaal\, José Miguel Carrera 720\, Santiago\, La Florida\, Chile
CATEGORIES:registros akashicos
ATTACH;FMTTYPE=image/jpeg:https://akaal.cl/wp-content/uploads/2017/12/dont-be-afraid-to-fall...-for-this-seasons-collection-available-in-all-sizes-20.jpg
END:VEVENT
END:VCALENDAR