BEGIN:VCALENDAR
VERSION:2.0
PRODID:-//Centro Akaal - ECPv6.15.20//NONSGML v1.0//EN
CALSCALE:GREGORIAN
METHOD:PUBLISH
X-ORIGINAL-URL:https://akaal.cl
X-WR-CALDESC:Eventos para Centro Akaal
REFRESH-INTERVAL;VALUE=DURATION:PT1H
X-Robots-Tag:noindex
X-PUBLISHED-TTL:PT1H
BEGIN:VTIMEZONE
TZID:America/Halifax
BEGIN:DAYLIGHT
TZOFFSETFROM:-0400
TZOFFSETTO:-0300
TZNAME:ADT
DTSTART:20160313T060000
END:DAYLIGHT
BEGIN:STANDARD
TZOFFSETFROM:-0300
TZOFFSETTO:-0400
TZNAME:AST
DTSTART:20161106T050000
END:STANDARD
BEGIN:DAYLIGHT
TZOFFSETFROM:-0400
TZOFFSETTO:-0300
TZNAME:ADT
DTSTART:20170312T060000
END:DAYLIGHT
BEGIN:STANDARD
TZOFFSETFROM:-0300
TZOFFSETTO:-0400
TZNAME:AST
DTSTART:20171105T050000
END:STANDARD
BEGIN:DAYLIGHT
TZOFFSETFROM:-0400
TZOFFSETTO:-0300
TZNAME:ADT
DTSTART:20180311T060000
END:DAYLIGHT
BEGIN:STANDARD
TZOFFSETFROM:-0300
TZOFFSETTO:-0400
TZNAME:AST
DTSTART:20181104T050000
END:STANDARD
END:VTIMEZONE
BEGIN:VTIMEZONE
TZID:America/Sao_Paulo
BEGIN:STANDARD
TZOFFSETFROM:-0200
TZOFFSETTO:-0300
TZNAME:-03
DTSTART:20160221T020000
END:STANDARD
BEGIN:DAYLIGHT
TZOFFSETFROM:-0300
TZOFFSETTO:-0200
TZNAME:-02
DTSTART:20161016T030000
END:DAYLIGHT
BEGIN:STANDARD
TZOFFSETFROM:-0200
TZOFFSETTO:-0300
TZNAME:-03
DTSTART:20170219T020000
END:STANDARD
BEGIN:DAYLIGHT
TZOFFSETFROM:-0300
TZOFFSETTO:-0200
TZNAME:-02
DTSTART:20171015T030000
END:DAYLIGHT
BEGIN:STANDARD
TZOFFSETFROM:-0200
TZOFFSETTO:-0300
TZNAME:-03
DTSTART:20180218T020000
END:STANDARD
BEGIN:DAYLIGHT
TZOFFSETFROM:-0300
TZOFFSETTO:-0200
TZNAME:-02
DTSTART:20181104T030000
END:DAYLIGHT
END:VTIMEZONE
BEGIN:VEVENT
DTSTART;TZID=America/Halifax:20170903T100000
DTEND;TZID=America/Halifax:20170903T190000
DTSTAMP:20260421T154353
CREATED:20170812T233331Z
LAST-MODIFIED:20170824T213618Z
UID:2268-1504432800-1504465200@akaal.cl
SUMMARY:Taller REIKI GENDAI Nivel 1\, Domingo 3 de Septiembre
DESCRIPTION:Aprenderás a ser un canal puro de energía Reiki. Quedas en condiciones de realizar autotratamiento\, sesiones a otros (personas\, animales\, objetos\, comidas\, etc.)\nPROGRAMA DEL PRIMER NIVEL REIKI GENDAI\nINTRODUCCION REIKI HO:\n– ¿Qué es Reiki ho? \n– Fundamentos de Reiki ho \n– ¿Qué es la sanación? \n– Propósito de la sanación \n– Estructura del Reiki ho \n– Síntesis de Gendai Reiki ho \n– Linaje \n– Política de seminarios y seguimientos \n– Sintonizaciones o iniciaciones \nHISTORIA DE REIKI HO\n– Mikao Usui \n– Historia de la Usui Reiki Ryoho Gakkai \n– Transmisión de Reiki en Japón y fuera de Japón \n– Evolución del Reiki occidental \n– Sistemas Reiki creados en occidente \nFUNDAMENTOS DE LA SANACIÓN REIKI\n– Fundamentos básicos \n– Cómo utilizar las manos \n– Posiciones fijas del Reiki occidental y posiciones del Reiki tradicional japonés \n– Autotratamiento \n– Tratamiento a los demás \n– Limpieza de aura \nTÉCNICAS DE REIKI TRADICIONAL\n– Shudan Reiki Ho – Renzoku Reiki Ho (parrilla y maratón de Reiki) \n– Reiki Mawashi (círculo de Reiki) \n– Nentatsu ho (técnica para tratar hábitos) \n– Byosen (técnica de escaneo) \n– Reiji ho (técnica intuitiva) \nTÉCNICAS PARA PURIFICAR Y VERTER REIKI\n– Jakikiri Joka ho (técnica para cortar la energía negativa) \n– Técnica para purificar ambientes \n– Canalizar Reiki a cristales y objetos \n– Purificación de alimentos y bebidas \nSANACIÓN A ANIMALES Y PLANTAS\n– Sanación a los animales \n– Sanación a las plantas \n– Otros usos \n– Cómo preparar agua con la energía Reiki \nTÉCNICAS DE AUTOPURIFICACION Y AUTOCRECIMIENTO\n– Kenyoku ho (autolimpieza energética) \n– Hikari No Kokyu ho (respiración luminosa) \n– Respiración Gassho \n– Ducha Reiki \n– Chakra Kassei Giho \n  \nSe hará entrega de: \nManual de “GENDAI REIKI HEALING ASSOCIATION”. \nDiploma. \nPrecio $70.000\, reserva tu cupo con 20% del precio total ($14.000) \nPuedes pagar con tarjetas de crédito o débito en nuestra central de pago:    https://akaal.cl/pagos-de-taller-nivel-1/ \nPuedes documentar hasta en 3 cheques (pueden ser de terceros).
URL:https://akaal.cl/actividades/taller-reiki-gendai-nivel-1/
LOCATION:Centro Akaal\, José Miguel Carrera 720\, Santiago\, La Florida\, Chile
CATEGORIES:amor,energia,reiki,sanacion
ATTACH;FMTTYPE=image/jpeg:https://akaal.cl/wp-content/uploads/2017/08/Imagine-a-Smoke-Free-Tomorrow-23.jpg
END:VEVENT
BEGIN:VEVENT
DTSTART;TZID=America/Sao_Paulo:20170902T113000
DTEND;TZID=America/Sao_Paulo:20170902T200000
DTSTAMP:20260421T154353
CREATED:20170824T205008Z
LAST-MODIFIED:20170824T210825Z
UID:2349-1504351800-1504382400@akaal.cl
SUMMARY:Numerología Universal Nivel 1\, Sábado 2 de Septiembre
DESCRIPTION:Numerología Universal es un sistema creado por el  Sr. Jaime Antonio Sepúlveda Correa\,  profesor de Estado de la Universidad de Chile.\nLuego de un largo estudio\, profunda investigación y enseñanza por separado de varias numerologías\,  decidió integrar en un solo sistema el conocimiento de: Numerología Tántrica\, Hindú\, Pitagórica y Mágica\, de manera de hacerla más simple y poder aplicarla fácilmente a la vida “común y corriente”. \nNumerología Universal\, cuenta con tres niveles\, cada uno de ellos nos muestra las profundidades maravillosas y sorprendentes de los números en nuestra existencia\, como poder entender su verdadero mensaje y poder aplicarlo en nuestra vida para transformar lo que nos obstaculiza o detiene en nuestra auto conocimiento y evolución. \nA partir del primer nivel el estudiante queda en condiciones de realizar estudios numerológicos a si mismo y a otros\, para orientar y guiar de manera efectiva a quién lo solicite. \n  \nPROGRAMA \n1.- Definición de numerología. \n2.- Estudio de los 11 números. \n3.- Profesión o trabajo asociado a cada número. \n4.- Influencia de cada número en la niñez. \n5.- Descripción emocional\, mental y espiritual de cada número. \n6.- Influencia de cada número en tu personalidad. \n7.- Estudio comparativo de parejas. \n8.- Propósito final de cada número y a que ha venido usted a este mundo. \n9.- Análisis y práctica inmediata con tu fecha de nacimiento y de otros. \n10.- Análisis global de tu fecha de nacimiento. \n  \nEste Taller te habilita para realizar estudios numerológicos a ti y a otras personas. \nSe entrega Manual y Certificado. Además se incluyen 2 coffee break. \nDirección: José Miguel Carrera 720\, La Florida (desde Vicuña Mackenna hacia la costa) Metro Trinidad\, línea 4. \nHorario: 11.30 a 21.00 hrs. \nPrecio: $120.000.- \nReserva de cupo con el 20% del precio $24.000 (quedan abonados al total) vía transferencia bancaria\, tarjetas de crédito\, depósito\, efectivo directamente en Centro Akaal.       https://akaal.cl/pague-aqui/ \nFacilidades de pago: hasta 3 cheques aparte de la Reserva ( los cheques pueden ser de otra persona). \n  \nTraer cuaderno\, lápiz\, calcetas gruesas (estamos sin zapatos dentro del salón) y almuerzo. \nInscripciones al whatsapp: +56 9 9477 7920  y  +56 9 6726 3440    centro@akaal.cl \n 
URL:https://akaal.cl/actividades/numerologia-universal-nivel-1-sabado-2-de-septiembre/
LOCATION:Centro Akaal\, José Miguel Carrera 720\, Santiago\, La Florida\, Chile
CATEGORIES:autoconocimiento,estudio,karma,numerología,vidas pasadas
ATTACH;FMTTYPE=image/jpeg:https://akaal.cl/wp-content/uploads/2017/08/dont-be-afraid-to-fall...-for-this-seasons-collection-available-in-all-sizes.jpg
END:VEVENT
BEGIN:VEVENT
DTSTART;TZID=America/Halifax:20170827T080000
DTEND;TZID=America/Halifax:20170827T170000
DTSTAMP:20260421T154353
CREATED:20170812T232808Z
LAST-MODIFIED:20170812T232808Z
UID:2264-1503820800-1503853200@akaal.cl
SUMMARY:Taller Nivel 3 de Registros Akáshicos
DESCRIPTION:
URL:https://akaal.cl/actividades/taller-nivel-3-de-registros-akashicos-2/
END:VEVENT
BEGIN:VEVENT
DTSTART;TZID=America/Halifax:20170826T080000
DTEND;TZID=America/Halifax:20170826T170000
DTSTAMP:20260421T154353
CREATED:20170812T204831Z
LAST-MODIFIED:20170812T204951Z
UID:2262-1503734400-1503766800@akaal.cl
SUMMARY:Taller Nivel 3 de Registros Akáshicos
DESCRIPTION:
URL:https://akaal.cl/actividades/taller-nivel-3-de-registros-akashicos/
END:VEVENT
BEGIN:VEVENT
DTSTART;TZID=America/Halifax:20170820T080000
DTEND;TZID=America/Halifax:20170820T170000
DTSTAMP:20260421T154353
CREATED:20170812T204449Z
LAST-MODIFIED:20170812T204449Z
UID:2260-1503216000-1503248400@akaal.cl
SUMMARY:Taller Nivel 2 de Registros Akáshicos
DESCRIPTION:
URL:https://akaal.cl/actividades/taller-nivel-2-de-registros-akashicos/
END:VEVENT
BEGIN:VEVENT
DTSTART;TZID=America/Halifax:20170819T080000
DTEND;TZID=America/Halifax:20170819T170000
DTSTAMP:20260421T154353
CREATED:20170812T175314Z
LAST-MODIFIED:20170812T204356Z
UID:2257-1503129600-1503162000@akaal.cl
SUMMARY:Taller Nivel 1 de Registros Akáshicos
DESCRIPTION:
URL:https://akaal.cl/actividades/taller-nivel-1-de-registros-akashicos/
END:VEVENT
BEGIN:VEVENT
DTSTART;TZID=America/Halifax:20170813T080000
DTEND;TZID=America/Halifax:20170813T170000
DTSTAMP:20260421T154353
CREATED:20170812T174845Z
LAST-MODIFIED:20170812T174918Z
UID:2255-1502611200-1502643600@akaal.cl
SUMMARY:TALLER YO SOY ENERGÍA. Nivel 1 LIMPIEZA Y EQUILIBRIO DE AURA Y CHAKRAS
DESCRIPTION:
URL:https://akaal.cl/actividades/taller-yo-soy-energia-nivel-1-limpieza-y-equilibrio-de-aura-y-chakras/
END:VEVENT
BEGIN:VEVENT
DTSTART;TZID=America/Halifax:20170812T080000
DTEND;TZID=America/Halifax:20170812T170000
DTSTAMP:20260421T154353
CREATED:20170812T174636Z
LAST-MODIFIED:20170812T174636Z
UID:2253-1502524800-1502557200@akaal.cl
SUMMARY:Taller de Péndulo Hebreo
DESCRIPTION:
URL:https://akaal.cl/actividades/taller-de-pendulo-hebreo/
END:VEVENT
END:VCALENDAR